Package: RSeqAn Version: 1.20.0 Command: /Library/Frameworks/R.framework/Resources/bin/R CMD check --install=check:RSeqAn.install-out.txt --library=/Library/Frameworks/R.framework/Resources/library --no-vignettes --timings RSeqAn_1.20.0.tar.gz StartedAt: 2023-10-16 06:25:57 -0400 (Mon, 16 Oct 2023) EndedAt: 2023-10-16 06:26:49 -0400 (Mon, 16 Oct 2023) EllapsedTime: 52.5 seconds RetCode: 0 Status: OK CheckDir: RSeqAn.Rcheck Warnings: 0