Package: RSeqAn Version: 1.20.0 Command: rm -rf RSeqAn.buildbin-libdir && mkdir RSeqAn.buildbin-libdir && /Users/biocbuild/BBS/utils/build-universal.sh RSeqAn_1.20.0.tar.gz /Library/Frameworks/R.framework/Resources/bin/R RSeqAn.buildbin-libdir StartedAt: 2023-10-16 10:07:02 -0400 (Mon, 16 Oct 2023) EndedAt: 2023-10-16 10:07:50 -0400 (Mon, 16 Oct 2023) EllapsedTime: 48.0 seconds RetCode: 0 Status: OK PackageFile: RSeqAn_1.20.0.tgz PackageFileSize: 1.715 MiB