Package: RSVSim Version: 1.40.0 Command: rm -rf RSVSim.buildbin-libdir && mkdir RSVSim.buildbin-libdir && /Users/biocbuild/BBS/utils/build-universal.sh RSVSim_1.40.0.tar.gz /Library/Frameworks/R.framework/Resources/bin/R RSVSim.buildbin-libdir StartedAt: 2023-10-16 10:07:04 -0400 (Mon, 16 Oct 2023) EndedAt: 2023-10-16 10:08:52 -0400 (Mon, 16 Oct 2023) EllapsedTime: 108.0 seconds RetCode: 0 Status: OK PackageFile: RSVSim_1.40.0.tgz PackageFileSize: 612.7 KiB