Package: ROntoTools Version: 2.28.0 Command: F:\biocbuild\bbs-3.17-bioc\R\bin\R.exe CMD INSTALL ROntoTools StartedAt: 2023-10-15 16:07:02 -0400 (Sun, 15 Oct 2023) EndedAt: 2023-10-15 16:07:19 -0400 (Sun, 15 Oct 2023) EllapsedTime: 17.3 seconds RetCode: 0 Status: OK