Package: ROntoTools Version: 2.28.0 Command: /Library/Frameworks/R.framework/Resources/bin/R CMD check --install=check:ROntoTools.install-out.txt --library=/Library/Frameworks/R.framework/Resources/library --no-vignettes --timings ROntoTools_2.28.0.tar.gz StartedAt: 2023-10-16 06:20:36 -0400 (Mon, 16 Oct 2023) EndedAt: 2023-10-16 06:27:28 -0400 (Mon, 16 Oct 2023) EllapsedTime: 411.5 seconds RetCode: 0 Status: OK CheckDir: ROntoTools.Rcheck Warnings: 0