Package: ROntoTools Version: 2.28.0 Command: /Library/Frameworks/R.framework/Resources/bin/R CMD build --keep-empty-dirs --no-resave-data ROntoTools StartedAt: 2023-10-15 20:48:26 -0400 (Sun, 15 Oct 2023) EndedAt: 2023-10-15 20:50:15 -0400 (Sun, 15 Oct 2023) EllapsedTime: 108.9 seconds RetCode: 0 Status: OK PackageFile: ROntoTools_2.28.0.tar.gz PackageFileSize: 1.487 MiB