Package: ROntoTools Version: 2.28.0 Command: rm -rf ROntoTools.buildbin-libdir && mkdir ROntoTools.buildbin-libdir && /Users/biocbuild/BBS/utils/build-universal.sh ROntoTools_2.28.0.tar.gz /Library/Frameworks/R.framework/Resources/bin/R ROntoTools.buildbin-libdir StartedAt: 2023-10-16 10:06:00 -0400 (Mon, 16 Oct 2023) EndedAt: 2023-10-16 10:06:46 -0400 (Mon, 16 Oct 2023) EllapsedTime: 46.0 seconds RetCode: 0 Status: OK PackageFile: ROntoTools_2.28.0.tgz PackageFileSize: 1.599 MiB