Package: ROTS Version: 1.28.0 Command: chmod a+r ROTS -R && F:\biocbuild\bbs-3.17-bioc\R\bin\R.exe CMD build --keep-empty-dirs --no-resave-data ROTS StartedAt: 2023-10-15 21:56:36 -0400 (Sun, 15 Oct 2023) EndedAt: 2023-10-15 21:57:10 -0400 (Sun, 15 Oct 2023) EllapsedTime: 34.0 seconds RetCode: 0 Status: OK PackageFile: ROTS_1.28.0.tar.gz PackageFileSize: 347.5 KiB