Package: ROTS Version: 1.28.0 Command: rm -rf ROTS.buildbin-libdir && mkdir ROTS.buildbin-libdir && /Users/biocbuild/BBS/utils/build-universal.sh ROTS_1.28.0.tar.gz /Library/Frameworks/R.framework/Resources/bin/R ROTS.buildbin-libdir StartedAt: 2023-10-16 10:06:20 -0400 (Mon, 16 Oct 2023) EndedAt: 2023-10-16 10:07:30 -0400 (Mon, 16 Oct 2023) EllapsedTime: 70.0 seconds RetCode: 0 Status: OK PackageFile: ROTS_1.28.0.tgz PackageFileSize: 524.4 KiB