git_url: https://git.bioconductor.org/packages/ROTS git_branch: RELEASE_3_17 git_last_commit: 032cb97 git_last_commit_date: 2023-04-25 10:43:59 -0400 (Tue, 25 Apr 2023) Package: ROTS Version: 1.28.0 Maintainer: Tomi Suomi MaintainerEmail: tomi.suomi at utu.fi