Package: ROSeq Version: 1.12.0 Command: F:\biocbuild\bbs-3.17-bioc\R\bin\R.exe CMD INSTALL ROSeq StartedAt: 2023-10-15 15:56:36 -0400 (Sun, 15 Oct 2023) EndedAt: 2023-10-15 15:56:49 -0400 (Sun, 15 Oct 2023) EllapsedTime: 12.4 seconds RetCode: 0 Status: OK