Package: ROSeq Version: 1.12.0 Command: rm -rf ROSeq.buildbin-libdir && mkdir ROSeq.buildbin-libdir && F:\biocbuild\bbs-3.17-bioc\R\bin\R.exe CMD INSTALL --build --library=ROSeq.buildbin-libdir ROSeq_1.12.0.tar.gz StartedAt: 2023-10-16 09:25:53 -0400 (Mon, 16 Oct 2023) EndedAt: 2023-10-16 09:26:07 -0400 (Mon, 16 Oct 2023) EllapsedTime: 14.4 seconds RetCode: 0 Status: OK PackageFile: ROSeq_1.12.0.zip PackageFileSize: 7.201 MiB