Package: ROSeq Version: 1.12.0 Command: /home/biocbuild/bbs-3.17-bioc/R/bin/R CMD check --install=check:ROSeq.install-out.txt --library=/home/biocbuild/bbs-3.17-bioc/R/site-library --timings ROSeq_1.12.0.tar.gz StartedAt: 2023-10-16 00:35:02 -0400 (Mon, 16 Oct 2023) EndedAt: 2023-10-16 00:40:36 -0400 (Mon, 16 Oct 2023) EllapsedTime: 334.5 seconds RetCode: 0 Status: WARNINGS CheckDir: ROSeq.Rcheck Warnings: 1