Package: ROSeq Version: 1.12.0 Command: /Library/Frameworks/R.framework/Resources/bin/R CMD check --install=check:ROSeq.install-out.txt --library=/Library/Frameworks/R.framework/Resources/library --no-vignettes --timings ROSeq_1.12.0.tar.gz StartedAt: 2023-10-16 06:20:51 -0400 (Mon, 16 Oct 2023) EndedAt: 2023-10-16 06:30:24 -0400 (Mon, 16 Oct 2023) EllapsedTime: 572.8 seconds RetCode: 0 Status: WARNINGS CheckDir: ROSeq.Rcheck Warnings: 1