Package: ROSeq Version: 1.12.0 Command: /Library/Frameworks/R.framework/Resources/bin/R CMD build --keep-empty-dirs --no-resave-data ROSeq StartedAt: 2023-10-15 20:49:05 -0400 (Sun, 15 Oct 2023) EndedAt: 2023-10-15 20:56:20 -0400 (Sun, 15 Oct 2023) EllapsedTime: 435.0 seconds RetCode: 0 Status: OK PackageFile: ROSeq_1.12.0.tar.gz PackageFileSize: 4.19 MiB