Package: ROCpAI Version: 1.12.0 Command: F:\biocbuild\bbs-3.17-bioc\R\bin\R.exe CMD INSTALL ROCpAI StartedAt: 2023-10-15 16:35:40 -0400 (Sun, 15 Oct 2023) EndedAt: 2023-10-15 16:36:03 -0400 (Sun, 15 Oct 2023) EllapsedTime: 23.1 seconds RetCode: 0 Status: OK