Package: ROCpAI Version: 1.12.0 Command: chmod a+r ROCpAI -R && F:\biocbuild\bbs-3.17-bioc\R\bin\R.exe CMD build --keep-empty-dirs --no-resave-data ROCpAI StartedAt: 2023-10-15 21:55:23 -0400 (Sun, 15 Oct 2023) EndedAt: 2023-10-15 21:55:57 -0400 (Sun, 15 Oct 2023) EllapsedTime: 34.1 seconds RetCode: 0 Status: OK PackageFile: ROCpAI_1.12.0.tar.gz PackageFileSize: 324 KiB