Package: ROCpAI Version: 1.12.0 Command: rm -rf ROCpAI.buildbin-libdir && mkdir ROCpAI.buildbin-libdir && F:\biocbuild\bbs-3.17-bioc\R\bin\R.exe CMD INSTALL --build --library=ROCpAI.buildbin-libdir ROCpAI_1.12.0.tar.gz StartedAt: 2023-10-16 09:25:41 -0400 (Mon, 16 Oct 2023) EndedAt: 2023-10-16 09:26:05 -0400 (Mon, 16 Oct 2023) EllapsedTime: 23.9 seconds RetCode: 0 Status: OK PackageFile: ROCpAI_1.12.0.zip PackageFileSize: 365.8 KiB