Package: ROC Version: 1.76.0 Command: F:\biocbuild\bbs-3.17-bioc\R\bin\R.exe CMD check --no-multiarch --install=check:ROC.install-out.txt --library=F:\biocbuild\bbs-3.17-bioc\R\library --no-vignettes --timings ROC_1.76.0.tar.gz StartedAt: 2023-10-16 06:10:51 -0400 (Mon, 16 Oct 2023) EndedAt: 2023-10-16 06:11:18 -0400 (Mon, 16 Oct 2023) EllapsedTime: 27.1 seconds RetCode: 0 Status: OK CheckDir: ROC.Rcheck Warnings: 0