Package: ROC Version: 1.76.0 Command: chmod a+r ROC -R && F:\biocbuild\bbs-3.17-bioc\R\bin\R.exe CMD build --keep-empty-dirs --no-resave-data ROC StartedAt: 2023-10-15 21:55:14 -0400 (Sun, 15 Oct 2023) EndedAt: 2023-10-15 21:55:22 -0400 (Sun, 15 Oct 2023) EllapsedTime: 8.0 seconds RetCode: 0 Status: OK PackageFile: ROC_1.76.0.tar.gz PackageFileSize: 251.1 KiB