Package: ROC Version: 1.76.0 Command: /home/biocbuild/bbs-3.17-bioc/R/bin/R CMD check --install=check:ROC.install-out.txt --library=/home/biocbuild/bbs-3.17-bioc/R/site-library --timings ROC_1.76.0.tar.gz StartedAt: 2023-10-16 00:34:34 -0400 (Mon, 16 Oct 2023) EndedAt: 2023-10-16 00:34:53 -0400 (Mon, 16 Oct 2023) EllapsedTime: 19.0 seconds RetCode: 0 Status: OK CheckDir: ROC.Rcheck Warnings: 0