Package: ROC Version: 1.76.0 Command: /Library/Frameworks/R.framework/Resources/bin/R CMD INSTALL ROC StartedAt: 2023-10-15 15:09:05 -0400 (Sun, 15 Oct 2023) EndedAt: 2023-10-15 15:09:46 -0400 (Sun, 15 Oct 2023) EllapsedTime: 41.3 seconds RetCode: 0 Status: OK