Package: ROC Version: 1.76.0 Command: /Library/Frameworks/R.framework/Resources/bin/R CMD check --install=check:ROC.install-out.txt --library=/Library/Frameworks/R.framework/Resources/library --no-vignettes --timings ROC_1.76.0.tar.gz StartedAt: 2023-10-16 06:19:44 -0400 (Mon, 16 Oct 2023) EndedAt: 2023-10-16 06:20:36 -0400 (Mon, 16 Oct 2023) EllapsedTime: 52.6 seconds RetCode: 0 Status: OK CheckDir: ROC.Rcheck Warnings: 0