Package: ROC Version: 1.76.0 Command: /Library/Frameworks/R.framework/Resources/bin/R CMD build --keep-empty-dirs --no-resave-data ROC StartedAt: 2023-10-15 20:48:14 -0400 (Sun, 15 Oct 2023) EndedAt: 2023-10-15 20:48:25 -0400 (Sun, 15 Oct 2023) EllapsedTime: 10.8 seconds RetCode: 0 Status: OK PackageFile: ROC_1.76.0.tar.gz PackageFileSize: 251.1 KiB