git_url: https://git.bioconductor.org/packages/ROC git_branch: RELEASE_3_17 git_last_commit: 905ee01 git_last_commit_date: 2023-04-25 09:38:31 -0400 (Tue, 25 Apr 2023) Package: ROC Version: 1.76.0 Maintainer: Vince Carey MaintainerEmail: stvjc at channing.harvard.edu