Package: RNAsense Version: 1.14.0 Command: F:\biocbuild\bbs-3.17-bioc\R\bin\R.exe CMD INSTALL RNAsense StartedAt: 2023-10-15 16:03:44 -0400 (Sun, 15 Oct 2023) EndedAt: 2023-10-15 16:04:09 -0400 (Sun, 15 Oct 2023) EllapsedTime: 24.6 seconds RetCode: 0 Status: OK