Package: RNAsense Version: 1.14.0 Command: chmod a+r RNAsense -R && F:\biocbuild\bbs-3.17-bioc\R\bin\R.exe CMD build --keep-empty-dirs --no-resave-data RNAsense StartedAt: 2023-10-15 21:53:48 -0400 (Sun, 15 Oct 2023) EndedAt: 2023-10-15 21:59:39 -0400 (Sun, 15 Oct 2023) EllapsedTime: 350.3 seconds RetCode: 0 Status: OK PackageFile: RNAsense_1.14.0.tar.gz PackageFileSize: 837.3 KiB