Package: RNAsense Version: 1.14.0 Command: /Library/Frameworks/R.framework/Resources/bin/R CMD build --keep-empty-dirs --no-resave-data RNAsense StartedAt: 2023-10-15 20:47:04 -0400 (Sun, 15 Oct 2023) EndedAt: 2023-10-15 20:57:59 -0400 (Sun, 15 Oct 2023) EllapsedTime: 655.5 seconds RetCode: 0 Status: OK PackageFile: RNAsense_1.14.0.tar.gz PackageFileSize: 889.2 KiB