Package: RNAsense Version: 1.14.0 Command: rm -rf RNAsense.buildbin-libdir && mkdir RNAsense.buildbin-libdir && /Users/biocbuild/BBS/utils/build-universal.sh RNAsense_1.14.0.tar.gz /Library/Frameworks/R.framework/Resources/bin/R RNAsense.buildbin-libdir StartedAt: 2023-10-16 10:05:21 -0400 (Mon, 16 Oct 2023) EndedAt: 2023-10-16 10:06:36 -0400 (Mon, 16 Oct 2023) EllapsedTime: 75.1 seconds RetCode: 0 Status: OK PackageFile: RNAsense_1.14.0.tgz PackageFileSize: 925.9 KiB