Package: RNAmodR.RiboMethSeq Version: 1.14.0 Command: rm -rf RNAmodR.RiboMethSeq.buildbin-libdir && mkdir RNAmodR.RiboMethSeq.buildbin-libdir && F:\biocbuild\bbs-3.17-bioc\R\bin\R.exe CMD INSTALL --build --library=RNAmodR.RiboMethSeq.buildbin-libdir RNAmodR.RiboMethSeq_1.14.0.tar.gz StartedAt: 2023-10-16 09:25:19 -0400 (Mon, 16 Oct 2023) EndedAt: 2023-10-16 09:26:25 -0400 (Mon, 16 Oct 2023) EllapsedTime: 66.6 seconds RetCode: 0 Status: OK PackageFile: RNAmodR.RiboMethSeq_1.14.0.zip PackageFileSize: 554.6 KiB