Package: RNAmodR.AlkAnilineSeq Version: 1.14.0 Command: chmod a+r RNAmodR.AlkAnilineSeq -R && F:\biocbuild\bbs-3.17-bioc\R\bin\R.exe CMD build --keep-empty-dirs --no-resave-data RNAmodR.AlkAnilineSeq StartedAt: 2023-10-15 21:53:28 -0400 (Sun, 15 Oct 2023) EndedAt: 2023-10-15 21:56:35 -0400 (Sun, 15 Oct 2023) EllapsedTime: 187.4 seconds RetCode: 0 Status: OK PackageFile: RNAmodR.AlkAnilineSeq_1.14.0.tar.gz PackageFileSize: 906 KiB