Package: RNAmodR.AlkAnilineSeq Version: 1.14.0 Command: /home/biocbuild/bbs-3.17-bioc/R/bin/R CMD check --install=check:RNAmodR.AlkAnilineSeq.install-out.txt --library=/home/biocbuild/bbs-3.17-bioc/R/site-library --timings RNAmodR.AlkAnilineSeq_1.14.0.tar.gz StartedAt: 2023-10-16 00:31:24 -0400 (Mon, 16 Oct 2023) EndedAt: 2023-10-16 00:40:03 -0400 (Mon, 16 Oct 2023) EllapsedTime: 518.8 seconds RetCode: 0 Status: OK CheckDir: RNAmodR.AlkAnilineSeq.Rcheck Warnings: 0