Package: RNAmodR.AlkAnilineSeq Version: 1.14.0 Command: /home/biocbuild/bbs-3.17-bioc/R/bin/R CMD build --keep-empty-dirs --no-resave-data RNAmodR.AlkAnilineSeq StartedAt: 2023-10-15 18:15:31 -0400 (Sun, 15 Oct 2023) EndedAt: 2023-10-15 18:17:43 -0400 (Sun, 15 Oct 2023) EllapsedTime: 132.6 seconds RetCode: 0 Status: OK PackageFile: RNAmodR.AlkAnilineSeq_1.14.0.tar.gz PackageFileSize: 1020 KiB