Package: RNAmodR.AlkAnilineSeq Version: 1.14.0 Command: /Library/Frameworks/R.framework/Resources/bin/R CMD INSTALL RNAmodR.AlkAnilineSeq StartedAt: 2023-10-15 15:57:04 -0400 (Sun, 15 Oct 2023) EndedAt: 2023-10-15 15:59:58 -0400 (Sun, 15 Oct 2023) EllapsedTime: 173.8 seconds RetCode: 0 Status: OK