Package: RNAmodR.AlkAnilineSeq Version: 1.14.0 Command: rm -rf RNAmodR.AlkAnilineSeq.buildbin-libdir && mkdir RNAmodR.AlkAnilineSeq.buildbin-libdir && /Users/biocbuild/BBS/utils/build-universal.sh RNAmodR.AlkAnilineSeq_1.14.0.tar.gz /Library/Frameworks/R.framework/Resources/bin/R RNAmodR.AlkAnilineSeq.buildbin-libdir StartedAt: 2023-10-16 10:05:03 -0400 (Mon, 16 Oct 2023) EndedAt: 2023-10-16 10:08:12 -0400 (Mon, 16 Oct 2023) EllapsedTime: 189.2 seconds RetCode: 0 Status: OK PackageFile: RNAmodR.AlkAnilineSeq_1.14.0.tgz PackageFileSize: 1.087 MiB