Package: RNASeqPower Version: 1.40.0 Command: /home/biocbuild/bbs-3.17-bioc/R/bin/R CMD check --install=check:RNASeqPower.install-out.txt --library=/home/biocbuild/bbs-3.17-bioc/R/site-library --timings RNASeqPower_1.40.0.tar.gz StartedAt: 2023-10-16 00:33:25 -0400 (Mon, 16 Oct 2023) EndedAt: 2023-10-16 00:33:41 -0400 (Mon, 16 Oct 2023) EllapsedTime: 15.3 seconds RetCode: 0 Status: OK CheckDir: RNASeqPower.Rcheck Warnings: 0