Package: RNASeqPower Version: 1.40.0 Command: /Library/Frameworks/R.framework/Resources/bin/R CMD check --install=check:RNASeqPower.install-out.txt --library=/Library/Frameworks/R.framework/Resources/library --no-vignettes --timings RNASeqPower_1.40.0.tar.gz StartedAt: 2023-10-16 06:17:15 -0400 (Mon, 16 Oct 2023) EndedAt: 2023-10-16 06:17:53 -0400 (Mon, 16 Oct 2023) EllapsedTime: 38.7 seconds RetCode: 0 Status: OK CheckDir: RNASeqPower.Rcheck Warnings: 0