Package: RNAAgeCalc Version: 1.12.0 Command: chmod a+r RNAAgeCalc -R && F:\biocbuild\bbs-3.17-bioc\R\bin\R.exe CMD build --keep-empty-dirs --no-resave-data RNAAgeCalc StartedAt: 2023-10-15 21:52:22 -0400 (Sun, 15 Oct 2023) EndedAt: 2023-10-15 21:53:35 -0400 (Sun, 15 Oct 2023) EllapsedTime: 72.7 seconds RetCode: 0 Status: OK PackageFile: RNAAgeCalc_1.12.0.tar.gz PackageFileSize: 3.29 MiB