Package: RNAAgeCalc Version: 1.12.0 Command: rm -rf RNAAgeCalc.buildbin-libdir && mkdir RNAAgeCalc.buildbin-libdir && F:\biocbuild\bbs-3.17-bioc\R\bin\R.exe CMD INSTALL --build --library=RNAAgeCalc.buildbin-libdir RNAAgeCalc_1.12.0.tar.gz StartedAt: 2023-10-16 09:24:46 -0400 (Mon, 16 Oct 2023) EndedAt: 2023-10-16 09:25:46 -0400 (Mon, 16 Oct 2023) EllapsedTime: 59.8 seconds RetCode: 0 Status: OK PackageFile: RNAAgeCalc_1.12.0.zip PackageFileSize: 3.427 MiB