Package: RNAAgeCalc Version: 1.12.0 Command: /Library/Frameworks/R.framework/Resources/bin/R CMD check --install=check:RNAAgeCalc.install-out.txt --library=/Library/Frameworks/R.framework/Resources/library --no-vignettes --timings RNAAgeCalc_1.12.0.tar.gz StartedAt: 2023-10-16 06:13:45 -0400 (Mon, 16 Oct 2023) EndedAt: 2023-10-16 06:26:57 -0400 (Mon, 16 Oct 2023) EllapsedTime: 791.9 seconds RetCode: 0 Status: OK CheckDir: RNAAgeCalc.Rcheck Warnings: 0