Package: RNAAgeCalc Version: 1.12.0 Command: /Library/Frameworks/R.framework/Resources/bin/R CMD build --keep-empty-dirs --no-resave-data RNAAgeCalc StartedAt: 2023-10-15 20:45:22 -0400 (Sun, 15 Oct 2023) EndedAt: 2023-10-15 20:47:55 -0400 (Sun, 15 Oct 2023) EllapsedTime: 152.7 seconds RetCode: 0 Status: OK PackageFile: RNAAgeCalc_1.12.0.tar.gz PackageFileSize: 3.315 MiB