Package: RMassBank Version: 3.10.0 Command: chmod a+r RMassBank -R && F:\biocbuild\bbs-3.17-bioc\R\bin\R.exe CMD build --keep-empty-dirs --no-resave-data RMassBank StartedAt: 2023-10-15 21:51:38 -0400 (Sun, 15 Oct 2023) EndedAt: 2023-10-15 21:59:55 -0400 (Sun, 15 Oct 2023) EllapsedTime: 497.1 seconds RetCode: 0 Status: OK PackageFile: RMassBank_3.10.0.tar.gz PackageFileSize: 1.422 MiB