Package: RMassBank Version: 3.10.0 Command: /home/biocbuild/bbs-3.17-bioc/R/bin/R CMD check --install=check:RMassBank.install-out.txt --library=/home/biocbuild/bbs-3.17-bioc/R/site-library --timings RMassBank_3.10.0.tar.gz StartedAt: 2023-10-16 00:29:33 -0400 (Mon, 16 Oct 2023) EndedAt: 2023-10-16 00:38:42 -0400 (Mon, 16 Oct 2023) EllapsedTime: 548.8 seconds RetCode: 0 Status: WARNINGS CheckDir: RMassBank.Rcheck Warnings: 4