Package: RLassoCox Version: 1.8.0 Command: F:\biocbuild\bbs-3.17-bioc\R\bin\R.exe CMD INSTALL RLassoCox StartedAt: 2023-10-15 16:36:42 -0400 (Sun, 15 Oct 2023) EndedAt: 2023-10-15 16:36:50 -0400 (Sun, 15 Oct 2023) EllapsedTime: 8.5 seconds RetCode: 0 Status: OK