Package: RLassoCox Version: 1.8.0 Command: F:\biocbuild\bbs-3.17-bioc\R\bin\R.exe CMD check --no-multiarch --install=check:RLassoCox.install-out.txt --library=F:\biocbuild\bbs-3.17-bioc\R\library --no-vignettes --timings RLassoCox_1.8.0.tar.gz StartedAt: 2023-10-16 06:04:44 -0400 (Mon, 16 Oct 2023) EndedAt: 2023-10-16 06:08:30 -0400 (Mon, 16 Oct 2023) EllapsedTime: 226.0 seconds RetCode: 0 Status: OK CheckDir: RLassoCox.Rcheck Warnings: 0