Package: RLassoCox Version: 1.8.0 Command: chmod a+r RLassoCox -R && F:\biocbuild\bbs-3.17-bioc\R\bin\R.exe CMD build --keep-empty-dirs --no-resave-data RLassoCox StartedAt: 2023-10-15 21:50:43 -0400 (Sun, 15 Oct 2023) EndedAt: 2023-10-15 21:51:59 -0400 (Sun, 15 Oct 2023) EllapsedTime: 75.9 seconds RetCode: 0 Status: OK PackageFile: RLassoCox_1.8.0.tar.gz PackageFileSize: 1.967 MiB