Package: RLassoCox Version: 1.8.0 Command: rm -rf RLassoCox.buildbin-libdir && mkdir RLassoCox.buildbin-libdir && F:\biocbuild\bbs-3.17-bioc\R\bin\R.exe CMD INSTALL --build --library=RLassoCox.buildbin-libdir RLassoCox_1.8.0.tar.gz StartedAt: 2023-10-16 09:24:24 -0400 (Mon, 16 Oct 2023) EndedAt: 2023-10-16 09:24:33 -0400 (Mon, 16 Oct 2023) EllapsedTime: 8.6 seconds RetCode: 0 Status: OK PackageFile: RLassoCox_1.8.0.zip PackageFileSize: 1.996 MiB