Package: RLassoCox Version: 1.8.0 Command: /Library/Frameworks/R.framework/Resources/bin/R CMD check --install=check:RLassoCox.install-out.txt --library=/Library/Frameworks/R.framework/Resources/library --no-vignettes --timings RLassoCox_1.8.0.tar.gz StartedAt: 2023-10-16 06:10:46 -0400 (Mon, 16 Oct 2023) EndedAt: 2023-10-16 06:17:47 -0400 (Mon, 16 Oct 2023) EllapsedTime: 421.0 seconds RetCode: 0 Status: OK CheckDir: RLassoCox.Rcheck Warnings: 0