Package: RLassoCox Version: 1.8.0 Command: /Library/Frameworks/R.framework/Resources/bin/R CMD build --keep-empty-dirs --no-resave-data RLassoCox StartedAt: 2023-10-15 20:43:50 -0400 (Sun, 15 Oct 2023) EndedAt: 2023-10-15 20:46:01 -0400 (Sun, 15 Oct 2023) EllapsedTime: 130.5 seconds RetCode: 0 Status: OK PackageFile: RLassoCox_1.8.0.tar.gz PackageFileSize: 1.966 MiB