Package: RLSeq Version: 1.6.0 Command: chmod a+r RLSeq -R && F:\biocbuild\bbs-3.17-bioc\R\bin\R.exe CMD build --keep-empty-dirs --no-resave-data RLSeq StartedAt: 2023-10-15 21:50:57 -0400 (Sun, 15 Oct 2023) EndedAt: 2023-10-15 21:55:13 -0400 (Sun, 15 Oct 2023) EllapsedTime: 256.3 seconds RetCode: 0 Status: OK PackageFile: RLSeq_1.6.0.tar.gz PackageFileSize: 2.433 MiB